BEGIN:VCALENDAR
VERSION:2.0
PRODID:-//Electricity Events - ECPv6.15.16//NONSGML v1.0//EN
CALSCALE:GREGORIAN
METHOD:PUBLISH
X-WR-CALNAME:Electricity Events
X-ORIGINAL-URL:https://electricity.limited
X-WR-CALDESC:Events for Electricity Events
REFRESH-INTERVAL;VALUE=DURATION:PT1H
X-Robots-Tag:noindex
X-PUBLISHED-TTL:PT1H
BEGIN:VTIMEZONE
TZID:Europe/London
BEGIN:DAYLIGHT
TZOFFSETFROM:+0000
TZOFFSETTO:+0100
TZNAME:BST
DTSTART:20250330T010000
END:DAYLIGHT
BEGIN:STANDARD
TZOFFSETFROM:+0100
TZOFFSETTO:+0000
TZNAME:GMT
DTSTART:20251026T010000
END:STANDARD
BEGIN:DAYLIGHT
TZOFFSETFROM:+0000
TZOFFSETTO:+0100
TZNAME:BST
DTSTART:20260329T010000
END:DAYLIGHT
BEGIN:STANDARD
TZOFFSETFROM:+0100
TZOFFSETTO:+0000
TZNAME:GMT
DTSTART:20261025T010000
END:STANDARD
BEGIN:DAYLIGHT
TZOFFSETFROM:+0000
TZOFFSETTO:+0100
TZNAME:BST
DTSTART:20270328T010000
END:DAYLIGHT
BEGIN:STANDARD
TZOFFSETFROM:+0100
TZOFFSETTO:+0000
TZNAME:GMT
DTSTART:20271031T010000
END:STANDARD
BEGIN:DAYLIGHT
TZOFFSETFROM:+0000
TZOFFSETTO:+0100
TZNAME:BST
DTSTART:20280326T010000
END:DAYLIGHT
BEGIN:STANDARD
TZOFFSETFROM:+0100
TZOFFSETTO:+0000
TZNAME:GMT
DTSTART:20281029T010000
END:STANDARD
END:VTIMEZONE
BEGIN:VEVENT
DTSTART;TZID=Europe/London:20261121T193000
DTEND;TZID=Europe/London:20261121T193000
DTSTAMP:20260421T122637
CREATED:20240913T110831Z
LAST-MODIFIED:20251205T131439Z
UID:2413-1795289400-1795289400@electricity.limited
SUMMARY:The Rod Stewart Songbook
DESCRIPTION:BUY NOW\n\n\n\n\n\n\n\n\n\n\n\n\n\n\n\n\n\n\n\n\n\n\n\n\n\n\n\n\n\n\n\n\n\n\n\n\n\n\n\n\nSat 21 November – Hutton Rudby Village Hall\n\n\n\nVenue doors 6:45pm / Show 7:30pm / £22.50 + b/f \n\n\n\n\nPete McCall and his super-talented 6-piece band deliver a good-time celebration of Rod Stewart’s biggest hits\, capturing the swagger and soul you know and love. Expect Sailing\, Da Ya Think I’m Sexy\, Maggie May\, Baby Jane\, I Don’t Want to Talk About It\, Hot Legs and a whole load more – played with the kind of infectious energy that gets a room on its feet fast. \nPete\, with his authentic-sounding vocal rasp\, lovingly celebrates Rod’s trademark charm and larger-than-life presence in this show jam-packed with huge sing-along moments. \nAnd if you need a stamp of approval\, here’s a decent one: ‘You were excellent!’ — Rod’s sister Mary. \n\n\n\n\n \n\n\n\n\n\n\n\n\n\n\n\n\n\n\n\n\n\n\nClick main menu VENUES link for transport and accessibility info\, parking\, recommendations for local bars and restaurants\, picture galleries and more.
URL:https://electricity.limited/event/the-rod-stewart-songbook/
LOCATION:Hutton Rudby Village Hall\, Belbrough Ln\, Enterpen\,\, Hutton Rudby\, TS15 0EJ\, United Kingdom
ATTACH;FMTTYPE=image/jpeg:https://electricity.limited/wp-content/uploads/2025/12/HRVH-SQ3.jpg
END:VEVENT
BEGIN:VEVENT
DTSTART;TZID=Europe/London:20270213T200000
DTEND;TZID=Europe/London:20270213T200000
DTSTAMP:20260421T122637
CREATED:20251205T121216Z
LAST-MODIFIED:20260415T103920Z
UID:4368-1802548800-1802548800@electricity.limited
SUMMARY:Viva la Vida Coldplay Saltburn
DESCRIPTION:BUY NOW\n\n\n\n\n\n\n\n\n\n\n\n\n\n\n\n\n\n\n\n\n\n\n\n\n\n\n\n\n\n\n\n\n\n\n\n\n\n\n\n\nSat 13 February 2027 – Saltburn Theatre\n\n\n\nVenue doors 7.15pm / Show 8.00pm / £20 + b/f / \n\n\nA warm\, atmospheric and passionately-delivered celebration of one of the world’s favourite festival bands. Viva la Vida dive into the tracks that shaped a generation – Yellow\, Fix You\, Paradise\, Viva La Vida – alongside more recent releases to bring the whole thing band up to date. \nExpect glowing melodies\, big emotional crescendos and all the anthemic sing-along moments you’d hope for\, recreated with care\, heart and a whole lot of soul. \n\n\n\n\n\n\n\n\n\n\nClick main menu VENUES link for transport and accessibility info\, parking\, recommendations for local bars and restaurants\, picture galleries and more.
URL:https://electricity.limited/event/a-head-full-of-coldplay-saltburn/
LOCATION:Saltburn Theatre\, Corner of Albion Terrace & Windsor Road\, TS12 1JW
ATTACH;FMTTYPE=image/jpeg:https://electricity.limited/wp-content/uploads/2026/04/ELE-Coldplay-SQ.jpg
END:VEVENT
END:VCALENDAR